BEGIN:VCALENDAR
VERSION:2.0
PRODID:-//Club de golf de Buckingham - ECPv6.15.20//NONSGML v1.0//EN
CALSCALE:GREGORIAN
METHOD:PUBLISH
X-ORIGINAL-URL:https://clubdegolfbuckingham.com/en/
X-WR-CALDESC:Events for Club de golf de Buckingham
REFRESH-INTERVAL;VALUE=DURATION:PT1H
X-Robots-Tag:noindex
X-PUBLISHED-TTL:PT1H
BEGIN:VTIMEZONE
TZID:America/Toronto
BEGIN:DAYLIGHT
TZOFFSETFROM:-0500
TZOFFSETTO:-0400
TZNAME:EDT
DTSTART:20250309T070000
END:DAYLIGHT
BEGIN:STANDARD
TZOFFSETFROM:-0400
TZOFFSETTO:-0500
TZNAME:EST
DTSTART:20251102T060000
END:STANDARD
BEGIN:DAYLIGHT
TZOFFSETFROM:-0500
TZOFFSETTO:-0400
TZNAME:EDT
DTSTART:20260308T070000
END:DAYLIGHT
BEGIN:STANDARD
TZOFFSETFROM:-0400
TZOFFSETTO:-0500
TZNAME:EST
DTSTART:20261101T060000
END:STANDARD
BEGIN:DAYLIGHT
TZOFFSETFROM:-0500
TZOFFSETTO:-0400
TZNAME:EDT
DTSTART:20270314T070000
END:DAYLIGHT
BEGIN:STANDARD
TZOFFSETFROM:-0400
TZOFFSETTO:-0500
TZNAME:EST
DTSTART:20271107T060000
END:STANDARD
END:VTIMEZONE
BEGIN:VEVENT
DTSTART;TZID=America/Toronto:20260514T000000
DTEND;TZID=America/Toronto:20260514T000000
DTSTAMP:20260425T124227
CREATED:20260425T141822Z
LAST-MODIFIED:20260425T141822Z
UID:7038-1778716800-1778716800@clubdegolfbuckingham.com
SUMMARY:The Birdies Festival
DESCRIPTION:Original tournament. The Festival of birdies with handicap and non-index.  \nExample: a woman with an index of (14.3) will play with a handicap of (-6) for modified junior milestones. \nExample: a man with an index of (2.2) will play with a handicap of +5 from milestones 4 \nWe offer a format that we think is electrifying. \nNo gross score will be retained. \nThe top six teams will be awarded scholarships based on their scores. with handicap and not INDEX. \nThe Florida formula will be used. \nOBLIGATION: each player must use SEVEN 4-FLOAT starts. \nMen play with milestones 4Yes\, you read that right. \nMenover 80 start from the milestones 5. \nAll women will start from the modified junior milestones. \n MILESTONES WILL BE BROUGHT FORWARD TO EQUALIZE THE PERCENTAGE OF ADVANCEMENT RECEIVED BY MEN AS MUCH AS POSSIBLE.   \nTEAMS ARE MADE UP OF TWO PLAYERS TAKING INTO ACCOUNT ONLY THEIR HANDICAP. EX. one player with a handicap of 20 and a second at 30 will have a handicap of 25 for the tournament. AGE IS NOT CONSIDERED. Maximum team handicap is 30.     \nA maximum combined handicap of 30 will be awarded to any team exceeding a combined total of 60. \n60 per team\nRegistration:  https://www.chronogolf.com/club/18868/events/1537644 \n  \n  \n 
URL:https://clubdegolfbuckingham.com/en/tournoi/the-birdies-festival/
LOCATION:Buckingham Golf Club
CATEGORIES:Members only,Men,Women
ATTACH;FMTTYPE=image/png:https://clubdegolfbuckingham.com/wp-content/uploads/2022/03/menwomen.png
END:VEVENT
BEGIN:VEVENT
DTSTART;TZID=America/Toronto:20260523T113000
DTEND;TZID=America/Toronto:20260523T120000
DTSTAMP:20260425T124227
CREATED:20260413T210121Z
LAST-MODIFIED:20260425T143258Z
UID:7006-1779535800-1779537600@clubdegolfbuckingham.com
SUMMARY:Intersectional Qualification - WOMEN
DESCRIPTION:1st round May 23 \n2nd round May 31 \nL’Intersectionnelle aims to qualify the club’s top 8 players to compete against three other golf clubs in the Ottawa Valley region. This year’s host club is Metcalfe.   \nThe competition will take place on July 12\, 2026 \n\nThe top 8 players from the qualifying round (7 players plus 1 substitute) will make up the Buckingham Golf Club Intersectional team.  \nIf there are 3 players in 7th and 8th place\, 3 additional holes will be played to obtain the 8 players. If the field is not available for this extra game\, the 3 and a half will be played until the winner is determined.   \nAll players with an index of 24.0 or less who enjoy competition and team spirit are welcome.  \nThe main objective is to have the club’s top 8 players on the team at the time of the competition.  \nRanking is done on the day the team registers.  \nWe’ll go with the handicap of the day.\n\n\n\nRegistration deadline: May 13 \nRegistration:  https://www.chronogolf.ca/club/18868/events/1519227
URL:https://clubdegolfbuckingham.com/en/tournoi/1st-intersectional-qualification-2/
LOCATION:Buckingham Golf Club
CATEGORIES:Members only,Women
ATTACH;FMTTYPE=image/jpeg:https://clubdegolfbuckingham.com/wp-content/uploads/2021/01/balle-golf-front.jpg
END:VEVENT
BEGIN:VEVENT
DTSTART;TZID=America/Toronto:20260530T000000
DTEND;TZID=America/Toronto:20260530T000000
DTSTAMP:20260425T124227
CREATED:20220408T140734Z
LAST-MODIFIED:20260425T143207Z
UID:4324-1780099200-1780099200@clubdegolfbuckingham.com
SUMMARY:Tournament Dice game - Skins
DESCRIPTION:This tournament is played in teams of 4. The Joust Captain will form the teams from among the registered players. A number from 1 to 4 is assigned to each player in the foursome. Each player executes her drive and then rolls the die.    \n\n1 to 4 = the ball assigned to the player is the ball chosen to play.\n5 = the ball in the worst situation (even if in sand\, water or wood) is the ball chosen to play.  \n6 = Any ball is chosen to play.\n\nRegistration deadline: May 20 \nRegistration:  https://www.chronogolf.ca/club/18868/events/1519229
URL:https://clubdegolfbuckingham.com/en/tournoi/womens-skins-tournament-2-2/
LOCATION:Buckingham Golf Club
CATEGORIES:Members only,Women
ATTACH;FMTTYPE=image/jpeg:https://clubdegolfbuckingham.com/wp-content/uploads/2020/12/hole-1072915_1920-e1609012201571.jpg
END:VEVENT
BEGIN:VEVENT
DTSTART;TZID=America/Toronto:20260531T113000
DTEND;TZID=America/Toronto:20260531T120000
DTSTAMP:20260425T124227
CREATED:20260413T205332Z
LAST-MODIFIED:20260413T210212Z
UID:7000-1780227000-1780228800@clubdegolfbuckingham.com
SUMMARY:2nd Intersectional Qualification
DESCRIPTION:L’Intersectionnelle aims to qualify the club’s top 8 players to compete against three other golf clubs in the Ottawa Valley region. This year’s host club is Metcalfe.   \nThe competition will take place on July 12\, 2026.   \nThe top 8 players from the qualifying round (7 players plus 1 substitute) will make up the Buckingham Golf Club Intersectional team.   \nIf there are 3 players for 7th and 8th place\, the tie-breaking rule (retro) will be applied with consultation of the Pro.   \nAll players with an index of 24.0 or less who enjoy competition and team spirit are welcome.   \nThe main objective is to have the club’s top 8 players on the team at the time of the competition.   \nRanking is done on the day the team registers.   \nWe’ll go with the handicap of the day. \nhttps://www.chronogolf.ca/club/18868/events/1519227
URL:https://clubdegolfbuckingham.com/en/tournoi/1st-intersectional-qualification/
LOCATION:Buckingham Golf Club
CATEGORIES:Members only,Women
ATTACH;FMTTYPE=image/jpeg:https://clubdegolfbuckingham.com/wp-content/uploads/2021/01/balle-golf-front.jpg
END:VEVENT
BEGIN:VEVENT
DTSTART;TZID=America/Toronto:20260607T000000
DTEND;TZID=America/Toronto:20260607T000000
DTSTAMP:20260425T124227
CREATED:20220317T202236Z
LAST-MODIFIED:20260425T143122Z
UID:4301-1780790400-1780790400@clubdegolfbuckingham.com
SUMMARY:Balles Roses Tournament
DESCRIPTION:This tournament is played in teams of 4\, with two players playing 5 holes each and two players playing 4 holes each of their choice. Each plays with the pink ball. Before the start of the game\, the team will determine which holes each golfer will play\, and the total points accumulated with the pink ball will be the score for the game. You will have 2 pink balls to start with. \nApplication deadline: May 28\, 2026 \nRegistration:  https://www.chronogolf.ca/club/18868/events/1519230
URL:https://clubdegolfbuckingham.com/en/tournoi/mixed-tournament-members-and-guests/
LOCATION:Buckingham Golf Club
CATEGORIES:Members only,Women
ATTACH;FMTTYPE=image/jpeg:https://clubdegolfbuckingham.com/wp-content/uploads/2021/01/sac-golf.jpg
END:VEVENT
BEGIN:VEVENT
DTSTART;TZID=America/Toronto:20260612T100000
DTEND;TZID=America/Toronto:20260612T120000
DTSTAMP:20260425T124227
CREATED:20220317T201330Z
LAST-MODIFIED:20260409T164132Z
UID:4313-1781258400-1781265600@clubdegolfbuckingham.com
SUMMARY:CALCUTTA
DESCRIPTION:3 Men/1 Woman – 80 players
URL:https://clubdegolfbuckingham.com/en/tournoi/calcutta/
LOCATION:Buckingham Golf Club
CATEGORIES:Members only,Men,Women
ATTACH;FMTTYPE=image/jpeg:https://clubdegolfbuckingham.com/wp-content/uploads/2021/01/golf-sur-tee-pret-a-la-pratique.jpg
END:VEVENT
BEGIN:VEVENT
DTSTART;TZID=America/Toronto:20260613T000000
DTEND;TZID=America/Toronto:20260613T000000
DTSTAMP:20260425T124227
CREATED:20220408T141238Z
LAST-MODIFIED:20260425T142409Z
UID:4321-1781308800-1781308800@clubdegolfbuckingham.com
SUMMARY:Calcutta 3 men and one woman
DESCRIPTION:Tournament(Florida) in teams of four players. \nA draw will be held on Thursday\, June 11 by captains chosen according to handicaps. \nFor more information\, please contact Louis Lefebvre louislefebvre@gmail.com or \nla boutique du Pro: 819-986-8035 \nFee: $60 per player \nRegistration: https://www.chronogolf.com/club/18868/events/1537570 \n  \n 
URL:https://clubdegolfbuckingham.com/en/tournoi/tournament-666-men/
LOCATION:Buckingham Golf Club
CATEGORIES:Members only,Men,Women
ATTACH;FMTTYPE=image/jpeg:https://clubdegolfbuckingham.com/wp-content/uploads/2021/01/golf-sur-tee-pret-a-la-pratique.jpg
END:VEVENT
END:VCALENDAR